BEGIN:VCALENDAR
VERSION:2.0
PRODID:-//The Fairway Club - ECPv6.15.20//NONSGML v1.0//EN
CALSCALE:GREGORIAN
METHOD:PUBLISH
X-WR-CALNAME:The Fairway Club
X-ORIGINAL-URL:https://thefairwayclub.com.au
X-WR-CALDESC:Events for The Fairway Club
REFRESH-INTERVAL;VALUE=DURATION:PT1H
X-Robots-Tag:noindex
X-PUBLISHED-TTL:PT1H
BEGIN:VTIMEZONE
TZID:Australia/Melbourne
BEGIN:STANDARD
TZOFFSETFROM:+1100
TZOFFSETTO:+1000
TZNAME:AEST
DTSTART:20250405T160000
END:STANDARD
BEGIN:DAYLIGHT
TZOFFSETFROM:+1000
TZOFFSETTO:+1100
TZNAME:AEDT
DTSTART:20251004T160000
END:DAYLIGHT
BEGIN:STANDARD
TZOFFSETFROM:+1100
TZOFFSETTO:+1000
TZNAME:AEST
DTSTART:20260404T160000
END:STANDARD
BEGIN:DAYLIGHT
TZOFFSETFROM:+1000
TZOFFSETTO:+1100
TZNAME:AEDT
DTSTART:20261003T160000
END:DAYLIGHT
BEGIN:STANDARD
TZOFFSETFROM:+1100
TZOFFSETTO:+1000
TZNAME:AEST
DTSTART:20270403T160000
END:STANDARD
BEGIN:DAYLIGHT
TZOFFSETFROM:+1000
TZOFFSETTO:+1100
TZNAME:AEDT
DTSTART:20271002T160000
END:DAYLIGHT
END:VTIMEZONE
BEGIN:VEVENT
DTSTART;VALUE=DATE:20260427
DTEND;VALUE=DATE:20260428
DTSTAMP:20260421T184951
CREATED:20251222T092002Z
LAST-MODIFIED:20260421T034550Z
UID:9021-1777248000-1777334399@thefairwayclub.com.au
SUMMARY:Keysborough - DKO QUARTER FINALS
DESCRIPTION:DKO – KEYSBOROUGH \nAttention all members of The Fairway Club \nBelow are the details of our next game. \nCarts are NOT included. Please book directly with the pro shop. \nOur Next Game \nVenue – Keysborough Golf Club \nDate – 27 April 2026 \nCompetition – Doubles Knock Out (First Round) \nTee Off – 12 – Two Tee Start\, First and tenth holes (Please ensure you are fully paid and registered before 11am) \nCost – $110 – includes green fees\, prizes for best front /back nines\, all grades\, and NTP’s. \nGuests – $120 – Please provide full Name and Golf ID Number. \nSnacks provided after golf. \nDon’t forget to support our club sponsors Mercedes Benz Berwick  and Drummond Golf for great deals. \nAlso if you have any travel needs\, please contact our new sponsor Liza Parker (0418365706) from Mobile Travel Agents. \n  \nI look forward to seeing you all there on Monday. \nYour Captain \nDarren \nDarren Triandafillou\nCaptain\nThe Fairway Club\nPH – 0408108372\nEmail – darrentriandafillou@gmail.com \n 
URL:https://thefairwayclub.com.au/event/keysborough-dko-quarter-finals/
LOCATION:Keysborough\, 55 Hutton Road\, Keysborough\, Victoria\, 3173\, Australia
CATEGORIES:Doubles Knockout
END:VEVENT
BEGIN:VEVENT
DTSTART;VALUE=DATE:20260504
DTEND;VALUE=DATE:20260505
DTSTAMP:20260421T184951
CREATED:20251222T092047Z
LAST-MODIFIED:20251230T050807Z
UID:9023-1777852800-1777939199@thefairwayclub.com.au
SUMMARY:Woodlands - DKO SEMI FINALS
DESCRIPTION:DKO SEMI FINALS
URL:https://thefairwayclub.com.au/event/woodlands-dko-semi-finals/
LOCATION:Woodlands\, 109 White Street\, Mordialloc\, Victoria\, 3195\, Australia
CATEGORIES:Doubles Knockout
END:VEVENT
BEGIN:VEVENT
DTSTART;VALUE=DATE:20260511
DTEND;VALUE=DATE:20260512
DTSTAMP:20260421T184951
CREATED:20251222T092141Z
LAST-MODIFIED:20251230T050907Z
UID:9025-1778457600-1778543999@thefairwayclub.com.au
SUMMARY:Commonwealth - DKO FINAL PYO
DESCRIPTION:DKO FINAL PYO
URL:https://thefairwayclub.com.au/event/commonwealth-dko-final-pyo/
LOCATION:Commonwealth\, Glennie Avenue\, Oakleigh South\, VIC\, 3167\, Australia
CATEGORIES:Doubles Knockout,Pick Your Own
END:VEVENT
BEGIN:VEVENT
DTSTART;VALUE=DATE:20260518
DTEND;VALUE=DATE:20260519
DTSTAMP:20260421T184951
CREATED:20251222T092239Z
LAST-MODIFIED:20251230T051017Z
UID:9028-1779062400-1779148799@thefairwayclub.com.au
SUMMARY:Moonah Legends - LIVE DRAW
DESCRIPTION:LIVE DRAW
URL:https://thefairwayclub.com.au/event/moonah-legends-live-draw/
LOCATION:Moonah Links Legends\, 55 Peter Thomson Dr\, Fingal\, Victoria\, 3939\, Australia
END:VEVENT
BEGIN:VEVENT
DTSTART;VALUE=DATE:20260525
DTEND;VALUE=DATE:20260526
DTSTAMP:20260421T184951
CREATED:20251222T092346Z
LAST-MODIFIED:20251230T051128Z
UID:9030-1779667200-1779753599@thefairwayclub.com.au
SUMMARY:St Andrews - MM SEEDED DRAW
DESCRIPTION:MM SEEDED DRAW
URL:https://thefairwayclub.com.au/event/st-andrews-mm-seeded-draw/
LOCATION:St. Andrews Beach\, 209 Sandy Rd\, Fingal\, Victoria\, 3941\, Australia
CATEGORIES:Monthly Medal
END:VEVENT
BEGIN:VEVENT
DTSTART;VALUE=DATE:20260601
DTEND;VALUE=DATE:20260602
DTSTAMP:20260421T184951
CREATED:20251222T092439Z
LAST-MODIFIED:20251230T051247Z
UID:9032-1780272000-1780358399@thefairwayclub.com.au
SUMMARY:Rosanna - 2 MAN AMBROSE LIVE DRAW
DESCRIPTION:2 MAN AMBROSE LIVE DRAW
URL:https://thefairwayclub.com.au/event/rosanna-2-man-ambrose-live-draw/
LOCATION:Rosanna\, 54 Cleveland Ave\, Lower Plenty\, Victoria\, 3093\, Australia
END:VEVENT
BEGIN:VEVENT
DTSTART;VALUE=DATE:20260608
DTEND;VALUE=DATE:20260609
DTSTAMP:20260421T184951
CREATED:20251222T092518Z
LAST-MODIFIED:20251222T092518Z
UID:9035-1780876800-1780963199@thefairwayclub.com.au
SUMMARY:No Game Kings Birthday
DESCRIPTION:
URL:https://thefairwayclub.com.au/event/no-game-kings-birthday/
LOCATION:No Game Kings Birthday\, Australia
END:VEVENT
BEGIN:VEVENT
DTSTART;VALUE=DATE:20260615
DTEND;VALUE=DATE:20260616
DTSTAMP:20260421T184951
CREATED:20251223T141440Z
LAST-MODIFIED:20251230T051419Z
UID:9038-1781481600-1781567999@thefairwayclub.com.au
SUMMARY:Yarra Yarra - MM SEEDED DRAW
DESCRIPTION:MM SEEDED DRAW
URL:https://thefairwayclub.com.au/event/yarra-yarra-mm-seeded-draw-2/
LOCATION:Yarra Yarra\, 567 Warrigal Road\, Bentleigh East\, Victoria\, 3165\, Australia
CATEGORIES:Monthly Medal
END:VEVENT
BEGIN:VEVENT
DTSTART;VALUE=DATE:20260622
DTEND;VALUE=DATE:20260623
DTSTAMP:20260421T184951
CREATED:20251223T141818Z
LAST-MODIFIED:20251230T051528Z
UID:9040-1782086400-1782172799@thefairwayclub.com.au
SUMMARY:Cape Schank - LIVE DRAW
DESCRIPTION:LIVE DRAW
URL:https://thefairwayclub.com.au/event/cape-schank-live-draw/
LOCATION:Cape Schank\, Trent Jones Dr\, Cape Schanck\, Victoria\, 3939\, Australia
END:VEVENT
BEGIN:VEVENT
DTSTART;VALUE=DATE:20260629
DTEND;VALUE=DATE:20260630
DTSTAMP:20260421T184951
CREATED:20251223T142033Z
LAST-MODIFIED:20251230T051622Z
UID:9044-1782691200-1782777599@thefairwayclub.com.au
SUMMARY:Rosebud - PAR
DESCRIPTION:PAR
URL:https://thefairwayclub.com.au/event/rosebud-par/
LOCATION:Rosebud\, 207 Boneo Road\, Rosebud\, Victoria\, 3939\, Australia
END:VEVENT
BEGIN:VEVENT
DTSTART;VALUE=DATE:20260706
DTEND;VALUE=DATE:20260707
DTSTAMP:20260421T184951
CREATED:20251223T142151Z
LAST-MODIFIED:20251230T051817Z
UID:9046-1783296000-1783382399@thefairwayclub.com.au
SUMMARY:Dunes - PYO
DESCRIPTION:PAR
URL:https://thefairwayclub.com.au/event/dunes-pyo/
LOCATION:The Dunes\, 335 Browns Road\, Rye\, Victoria\, 3941\, Australia
CATEGORIES:Pick Your Own
END:VEVENT
BEGIN:VEVENT
DTSTART;VALUE=DATE:20260713
DTEND;VALUE=DATE:20260714
DTSTAMP:20260421T184951
CREATED:20251223T142337Z
LAST-MODIFIED:20251230T051907Z
UID:9048-1783900800-1783987199@thefairwayclub.com.au
SUMMARY:Gardiners Run - DRAW
DESCRIPTION:DRAW
URL:https://thefairwayclub.com.au/event/gardiners-run-draw/
LOCATION:Gardiners Run\, 132 Victoria Road\, Lilydale\, Victoria\, 3140\, Australia
END:VEVENT
BEGIN:VEVENT
DTSTART;VALUE=DATE:20260720
DTEND;VALUE=DATE:20260721
DTSTAMP:20260421T184951
CREATED:20251223T143231Z
LAST-MODIFIED:20251230T052216Z
UID:9051-1784505600-1784591999@thefairwayclub.com.au
SUMMARY:Keysborough - MM SEEDED DRAW
DESCRIPTION:MM SEEDED DRAW
URL:https://thefairwayclub.com.au/event/keysborough-mm-seeded-draw/
LOCATION:Keysborough\, 55 Hutton Road\, Keysborough\, Victoria\, 3173\, Australia
CATEGORIES:Monthly Medal
END:VEVENT
BEGIN:VEVENT
DTSTART;VALUE=DATE:20260727
DTEND;VALUE=DATE:20260728
DTSTAMP:20260421T184951
CREATED:20251223T143344Z
LAST-MODIFIED:20251230T052334Z
UID:9053-1785110400-1785196799@thefairwayclub.com.au
SUMMARY:Southern - LIVE DRAW
DESCRIPTION:LIVE DRAW
URL:https://thefairwayclub.com.au/event/southern-live-draw-3/
LOCATION:Southern\, Lower Dandenong Road\, Keysborough\, Victoria\, 3173\, Australia
END:VEVENT
BEGIN:VEVENT
DTSTART;VALUE=DATE:20260803
DTEND;VALUE=DATE:20260804
DTSTAMP:20260421T184951
CREATED:20251223T144832Z
LAST-MODIFIED:20251230T052419Z
UID:9055-1785715200-1785801599@thefairwayclub.com.au
SUMMARY:Flinders - DRAW
DESCRIPTION:DRAW
URL:https://thefairwayclub.com.au/event/flinders-draw/
LOCATION:Flinders\, Bass Street\, Flinders\, Victoria\, 3929\, Australia
END:VEVENT
BEGIN:VEVENT
DTSTART;VALUE=DATE:20260810
DTEND;VALUE=DATE:20260811
DTSTAMP:20260421T184951
CREATED:20251223T144939Z
LAST-MODIFIED:20251230T052504Z
UID:9057-1786320000-1786406399@thefairwayclub.com.au
SUMMARY:Portsea - DRAW
DESCRIPTION:DRAW
URL:https://thefairwayclub.com.au/event/portsea-draw/
LOCATION:Portsea\, 46 London Bridge Road\, Portsea\, Victoria\, 3944\, Australia
END:VEVENT
BEGIN:VEVENT
DTSTART;VALUE=DATE:20260817
DTEND;VALUE=DATE:20260818
DTSTAMP:20260421T184951
CREATED:20251223T145124Z
LAST-MODIFIED:20251230T052614Z
UID:9059-1786924800-1787011199@thefairwayclub.com.au
SUMMARY:Peninsula - PYO
DESCRIPTION:PYO
URL:https://thefairwayclub.com.au/event/peninsula-pyo/
LOCATION:Peninsula\, 211-279 Skye Road\, Frankston\, Victoria\, 3199\, Australia
CATEGORIES:Pick Your Own
END:VEVENT
BEGIN:VEVENT
DTSTART;VALUE=DATE:20260824
DTEND;VALUE=DATE:20260825
DTSTAMP:20260421T184951
CREATED:20251223T145250Z
LAST-MODIFIED:20251230T052735Z
UID:9061-1787529600-1787615999@thefairwayclub.com.au
SUMMARY:Heritage Henley - LIVE DRAW
DESCRIPTION:LIVE DRAW
URL:https://thefairwayclub.com.au/event/heritage-henley-live-draw/
LOCATION:Heritage Henley\, 21 Heritage Ave\, Chirnside Park\, Victoria\, 3116\, Australia
END:VEVENT
BEGIN:VEVENT
DTSTART;VALUE=DATE:20260831
DTEND;VALUE=DATE:20260901
DTSTAMP:20260421T184951
CREATED:20251223T145336Z
LAST-MODIFIED:20251230T052837Z
UID:9063-1788134400-1788220799@thefairwayclub.com.au
SUMMARY:Rosebud - DRAW
DESCRIPTION:DRAW
URL:https://thefairwayclub.com.au/event/rosebud-draw/
LOCATION:Rosebud\, 207 Boneo Road\, Rosebud\, Victoria\, 3939\, Australia
END:VEVENT
BEGIN:VEVENT
DTSTART;VALUE=DATE:20260907
DTEND;VALUE=DATE:20260908
DTSTAMP:20260421T184951
CREATED:20251223T145631Z
LAST-MODIFIED:20251230T053004Z
UID:9065-1788739200-1788825599@thefairwayclub.com.au
SUMMARY:Dunes - 2 MAN AMBROSE LIVE DRAW
DESCRIPTION:2 MAN AMBROSE LIVE DRAW
URL:https://thefairwayclub.com.au/event/dunes-2-man-ambrose-live-draw/
LOCATION:The Dunes\, 335 Browns Road\, Rye\, Victoria\, 3941\, Australia
END:VEVENT
BEGIN:VEVENT
DTSTART;VALUE=DATE:20260914
DTEND;VALUE=DATE:20260915
DTSTAMP:20260421T184951
CREATED:20251223T145855Z
LAST-MODIFIED:20251230T053210Z
UID:9067-1789344000-1789430399@thefairwayclub.com.au
SUMMARY:Moonah Open - MM
DESCRIPTION:MM
URL:https://thefairwayclub.com.au/event/moonah-open-mm/
LOCATION:Moonah Links Open\, 55 Peter Thomson Dr\, Fingal\, Victoria\, 3939\, Australia
CATEGORIES:Monthly Medal
END:VEVENT
BEGIN:VEVENT
DTSTART;VALUE=DATE:20260921
DTEND;VALUE=DATE:20260922
DTSTAMP:20260421T184951
CREATED:20251223T151646Z
LAST-MODIFIED:20251230T053305Z
UID:9069-1789948800-1790035199@thefairwayclub.com.au
SUMMARY:Gardiners Run - LIVE DRAW
DESCRIPTION:LIVE DRAW
URL:https://thefairwayclub.com.au/event/gardiners-run-live-draw/
LOCATION:Gardiners Run\, 132 Victoria Road\, Lilydale\, Victoria\, 3140\, Australia
END:VEVENT
BEGIN:VEVENT
DTSTART;VALUE=DATE:20260928
DTEND;VALUE=DATE:20260929
DTSTAMP:20260421T184951
CREATED:20251223T151742Z
LAST-MODIFIED:20251230T053408Z
UID:9071-1790553600-1790639999@thefairwayclub.com.au
SUMMARY:Cape Schank - SKO TOP 16 SCORES QUALIFY
DESCRIPTION:SKO TOP 16 SCORES QUALIFY
URL:https://thefairwayclub.com.au/event/cape-schank-sko-top-16-scores-qualify/
LOCATION:Cape Schank\, Trent Jones Dr\, Cape Schanck\, Victoria\, 3939\, Australia
CATEGORIES:Singles Knockout
END:VEVENT
BEGIN:VEVENT
DTSTART;VALUE=DATE:20261005
DTEND;VALUE=DATE:20261006
DTSTAMP:20260421T184951
CREATED:20251223T151859Z
LAST-MODIFIED:20251230T053455Z
UID:9073-1791158400-1791244799@thefairwayclub.com.au
SUMMARY:Keysborough - SKO  FIRST ROUND
DESCRIPTION:SKO FIRST ROUND
URL:https://thefairwayclub.com.au/event/keysborough-sko-first-round/
LOCATION:Keysborough\, 55 Hutton Road\, Keysborough\, Victoria\, 3173\, Australia
CATEGORIES:Singles Knockout
END:VEVENT
BEGIN:VEVENT
DTSTART;VALUE=DATE:20261012
DTEND;VALUE=DATE:20261013
DTSTAMP:20260421T184951
CREATED:20251223T151944Z
LAST-MODIFIED:20251230T053552Z
UID:9075-1791763200-1791849599@thefairwayclub.com.au
SUMMARY:Heritage Henley - SKO QUARTER FINALS
DESCRIPTION:SKO QUARTER FINALS
URL:https://thefairwayclub.com.au/event/heritage-henley-sko-quarter-finals/
LOCATION:Heritage Henley\, 21 Heritage Ave\, Chirnside Park\, Victoria\, 3116\, Australia
CATEGORIES:Singles Knockout
END:VEVENT
BEGIN:VEVENT
DTSTART;VALUE=DATE:20261019
DTEND;VALUE=DATE:20261020
DTSTAMP:20260421T184951
CREATED:20251223T152147Z
LAST-MODIFIED:20251230T053653Z
UID:9077-1792368000-1792454399@thefairwayclub.com.au
SUMMARY:Moonah Legends - SKO SEMI FINALS -MONTHLY MEDAL
DESCRIPTION:SKO SEMI FINALS -MONTHLY MEDAL
URL:https://thefairwayclub.com.au/event/moonah-legends-sko-semi-finals-monthly-medal/
LOCATION:Moonah Links Legends\, 55 Peter Thomson Dr\, Fingal\, Victoria\, 3939\, Australia
CATEGORIES:Singles Knockout
END:VEVENT
BEGIN:VEVENT
DTSTART;VALUE=DATE:20261026
DTEND;VALUE=DATE:20261027
DTSTAMP:20260421T184951
CREATED:20251223T152305Z
LAST-MODIFIED:20251230T053759Z
UID:9079-1792972800-1793059199@thefairwayclub.com.au
SUMMARY:St Andrews - SKO FINAL - LIVE DRAW
DESCRIPTION:SKO FINAL – LIVE DRAW
URL:https://thefairwayclub.com.au/event/st-andrews-sko-final-live-draw/
LOCATION:St. Andrews Beach\, 209 Sandy Rd\, Fingal\, Victoria\, 3941\, Australia
CATEGORIES:Singles Knockout
END:VEVENT
BEGIN:VEVENT
DTSTART;VALUE=DATE:20261102
DTEND;VALUE=DATE:20261103
DTSTAMP:20260421T184951
CREATED:20251223T152430Z
LAST-MODIFIED:20251223T152430Z
UID:9081-1793577600-1793663999@thefairwayclub.com.au
SUMMARY:No Game Cup Eve
DESCRIPTION:
URL:https://thefairwayclub.com.au/event/no-game-cup-eve/
LOCATION:No Game Cup Eve\, Australia
END:VEVENT
BEGIN:VEVENT
DTSTART;VALUE=DATE:20261109
DTEND;VALUE=DATE:20261110
DTSTAMP:20260421T184951
CREATED:20251223T152642Z
LAST-MODIFIED:20251230T053916Z
UID:9084-1794182400-1794268799@thefairwayclub.com.au
SUMMARY:Yarrawonga
DESCRIPTION:
URL:https://thefairwayclub.com.au/event/yarrawonga/
LOCATION:Yarrawonga
END:VEVENT
BEGIN:VEVENT
DTSTART;VALUE=DATE:20261116
DTEND;VALUE=DATE:20261117
DTSTAMP:20260421T184951
CREATED:20251223T152721Z
LAST-MODIFIED:20251230T054011Z
UID:9087-1794787200-1794873599@thefairwayclub.com.au
SUMMARY:Box Hill - MM SEEDED DRAW
DESCRIPTION:MM SEEDED DRAW
URL:https://thefairwayclub.com.au/event/box-hill-mm-seeded-draw/
LOCATION:Box Hill\, 202 Station Street\, Box Hill\, Victoria\, 3128\, Australia
CATEGORIES:Monthly Medal
END:VEVENT
END:VCALENDAR